BEGIN:VCALENDAR
VERSION:2.0
PRODID:hinto.net
X-PUBLISHED-TTL:P1W
BEGIN:VEVENT
UID:hinto.net-event_show-6859676
DTSTART:20260418T235000
SEQUENCE:0
CREATED:20260418T063142
LAST-MODIFIED:20260418T063142
TRANSP:OPAQUE
DTEND:20260419T000000
LOCATION:
SUMMARY:Tele Züri: ZüriWetter
CLASS:PUBLIC
DESCRIPTION:
ORGANIZER:
DTSTAMP:20260420T001947
ATTACH:https://www.hinto.net/de/events/tele-zueri-zueriwetter-18-04-2026-2350-e2790855-20.html
END:VEVENT
END:VCALENDAR
