BEGIN:VCALENDAR
VERSION:2.0
PRODID:hinto.net
X-PUBLISHED-TTL:P1W
BEGIN:VEVENT
UID:hinto.net-event_show-6860253
DTSTART:20260418T233100
SEQUENCE:0
CREATED:20260328T060546
LAST-MODIFIED:20260328T060546
TRANSP:OPAQUE
DTEND:20260419T000000
LOCATION:
SUMMARY:Tele Top: Tophoch3
CLASS:PUBLIC
DESCRIPTION:
ORGANIZER:
DTSTAMP:20260419T161440
ATTACH:https://www.hinto.net/de/events/tele-top-tophoch3-18-04-2026-2331-e2791432-20.html
END:VEVENT
END:VCALENDAR
