BEGIN:VCALENDAR
VERSION:2.0
PRODID:hinto.net
X-PUBLISHED-TTL:P1W
BEGIN:VEVENT
UID:hinto.net-event_show-6863601
DTSTART:20260419T191300
SEQUENCE:0
CREATED:20260329T155057
LAST-MODIFIED:20260329T155057
TRANSP:OPAQUE
DTEND:20260419T191600
LOCATION:
SUMMARY:Tele Top: Top Wetter
CLASS:PUBLIC
DESCRIPTION:
ORGANIZER:
DTSTAMP:20260420T042011
ATTACH:https://www.hinto.net/de/events/tele-top-top-wetter-19-04-2026-1913-e2794217-20.html
END:VEVENT
END:VCALENDAR
