BEGIN:VCALENDAR
VERSION:2.0
PRODID:hinto.net
X-PUBLISHED-TTL:P1W
BEGIN:VEVENT
UID:hinto.net-event_show-6863600
DTSTART:20260419T190000
SEQUENCE:0
CREATED:20260329T155057
LAST-MODIFIED:20260329T155057
TRANSP:OPAQUE
DTEND:20260419T191300
LOCATION:
SUMMARY:Tele Top: Top News
CLASS:PUBLIC
DESCRIPTION:
ORGANIZER:
DTSTAMP:20260420T052104
ATTACH:https://www.hinto.net/de/events/tele-top-top-news-19-04-2026-1900-e2794216-20.html
END:VEVENT
END:VCALENDAR
