BEGIN:VCALENDAR
VERSION:2.0
PRODID:hinto.net
X-PUBLISHED-TTL:P1W
BEGIN:VEVENT
UID:hinto.net-event_show-6863580
DTSTART:20260419T120000
SEQUENCE:0
CREATED:20260329T155042
LAST-MODIFIED:20260329T155042
TRANSP:OPAQUE
DTEND:20260419T121300
LOCATION:
SUMMARY:Tele Top: Top News
CLASS:PUBLIC
DESCRIPTION:
ORGANIZER:
DTSTAMP:20260419T200743
ATTACH:https://www.hinto.net/de/events/tele-top-top-news-19-04-2026-1200-e2794196-20.html
END:VEVENT
END:VCALENDAR
