BEGIN:VCALENDAR
VERSION:2.0
PRODID:hinto.net
X-PUBLISHED-TTL:P1W
BEGIN:VEVENT
UID:hinto.net-event_show-6860185
DTSTART:20260419T044500
SEQUENCE:0
CREATED:20260328T060425
LAST-MODIFIED:20260328T060425
TRANSP:OPAQUE
DTEND:20260419T050000
LOCATION:
SUMMARY:Tele Südostschweiz: Globe TV
CLASS:PUBLIC
DESCRIPTION:
ORGANIZER:
DTSTAMP:20260419T190906
ATTACH:https://www.hinto.net/de/events/tele-suedostschweiz-globe-tv-19-04-2026-0445-e2791364-20.html
END:VEVENT
END:VCALENDAR
