BEGIN:VCALENDAR
VERSION:2.0
PRODID:hinto.net
X-PUBLISHED-TTL:P1W
BEGIN:VEVENT
UID:hinto.net-event_show-6863549
DTSTART:20260420T000000
SEQUENCE:0
CREATED:20260329T154830
LAST-MODIFIED:20260329T154830
TRANSP:OPAQUE
DTEND:20260420T003000
LOCATION:
SUMMARY:Tele Südostschweiz: Caffè Todisco
CLASS:PUBLIC
DESCRIPTION:
ORGANIZER:
DTSTAMP:20260420T093728
ATTACH:https://www.hinto.net/de/events/tele-suedostschweiz-caffe-todisco-20-04-2026-0000-e2794165-20.html
END:VEVENT
END:VCALENDAR
