BEGIN:VCALENDAR
VERSION:2.0
PRODID:hinto.net
X-PUBLISHED-TTL:P1W
BEGIN:VEVENT
UID:hinto.net-event_show-6895252
DTSTART:20260423T033100
SEQUENCE:0
CREATED:20260409T183901
LAST-MODIFIED:20260409T183901
TRANSP:OPAQUE
DTEND:20260423T035600
LOCATION:
SUMMARY:Tele M1: TalkTäglich
CLASS:PUBLIC
DESCRIPTION:
ORGANIZER:
DTSTAMP:20260423T221647
ATTACH:https://www.hinto.net/de/events/tele-m1-talktaeglich-23-04-2026-0331-e2821102-20.html
END:VEVENT
END:VCALENDAR
