BEGIN:VCALENDAR
VERSION:2.0
PRODID:hinto.net
X-PUBLISHED-TTL:P1W
BEGIN:VEVENT
UID:hinto.net-event_show-6925881
DTSTART:20260419T201800
SEQUENCE:0
CREATED:20260419T150942
LAST-MODIFIED:20260419T150942
TRANSP:OPAQUE
DTEND:20260419T205500
LOCATION:
SUMMARY:Tele M1: Sonntalk
CLASS:PUBLIC
DESCRIPTION:
ORGANIZER:
DTSTAMP:20260420T073137
ATTACH:https://www.hinto.net/de/events/tele-m1-sonntalk-19-04-2026-2018-e2847821-20.html
END:VEVENT
END:VCALENDAR
