BEGIN:VCALENDAR
VERSION:2.0
PRODID:hinto.net
X-PUBLISHED-TTL:P1W
BEGIN:VEVENT
UID:hinto.net-event_show-6925875
DTSTART:20260419T165800
SEQUENCE:0
CREATED:20260419T150937
LAST-MODIFIED:20260419T150937
TRANSP:OPAQUE
DTEND:20260419T170500
LOCATION:
SUMMARY:Tele M1: premiumshopping.tv
CLASS:PUBLIC
DESCRIPTION:
ORGANIZER:
DTSTAMP:20260419T230113
ATTACH:https://www.hinto.net/de/events/tele-m1-premiumshopping-tv-19-04-2026-1658-e2847815-20.html
END:VEVENT
END:VCALENDAR
