BEGIN:VCALENDAR
VERSION:2.0
PRODID:hinto.net
X-PUBLISHED-TTL:P1W
BEGIN:VEVENT
UID:hinto.net-event_show-6863199
DTSTART:20260419T131500
SEQUENCE:0
CREATED:20260412T100014
LAST-MODIFIED:20260412T100014
TRANSP:OPAQUE
DTEND:20260419T132000
LOCATION:
SUMMARY:Tele M1: premiumshopping.tv
CLASS:PUBLIC
DESCRIPTION:
ORGANIZER:
DTSTAMP:20260419T185935
ATTACH:https://www.hinto.net/de/events/tele-m1-premiumshopping-tv-19-04-2026-1315-e2793815-20.html
END:VEVENT
END:VCALENDAR
