BEGIN:VCALENDAR
VERSION:2.0
PRODID:hinto.net
X-PUBLISHED-TTL:P1W
BEGIN:VEVENT
UID:hinto.net-event_show-6872779
DTSTART:20260423T000000
SEQUENCE:0
CREATED:20260402T050545
LAST-MODIFIED:20260402T050545
TRANSP:OPAQUE
DTEND:20260423T001500
LOCATION:
SUMMARY:Tele M1: Aktuell
CLASS:PUBLIC
DESCRIPTION:
ORGANIZER:
DTSTAMP:20260423T234947
ATTACH:https://www.hinto.net/de/events/tele-m1-aktuell-23-04-2026-0000-e2801183-20.html
END:VEVENT
END:VCALENDAR
