BEGIN:VCALENDAR
VERSION:2.0
PRODID:hinto.net
X-PUBLISHED-TTL:P1W
BEGIN:VEVENT
UID:hinto.net-event_show-6863225
DTSTART:20260420T020000
SEQUENCE:0
CREATED:20260419T135103
LAST-MODIFIED:20260419T135103
TRANSP:OPAQUE
DTEND:20260420T021800
LOCATION:
SUMMARY:Tele M1: Aktuell
CLASS:PUBLIC
DESCRIPTION:
ORGANIZER:
DTSTAMP:20260420T131231
ATTACH:https://www.hinto.net/de/events/tele-m1-aktuell-20-04-2026-0200-e2793841-20.html
END:VEVENT
END:VCALENDAR
