BEGIN:VCALENDAR
VERSION:2.0
PRODID:hinto.net
X-PUBLISHED-TTL:P1W
BEGIN:VEVENT
UID:hinto.net-event_show-6863205
DTSTART:20260419T180000
SEQUENCE:0
CREATED:20260419T135043
LAST-MODIFIED:20260419T135043
TRANSP:OPAQUE
DTEND:20260419T181800
LOCATION:
SUMMARY:Tele M1: Aktuell
CLASS:PUBLIC
DESCRIPTION:
ORGANIZER:
DTSTAMP:20260420T062019
ATTACH:https://www.hinto.net/de/events/tele-m1-aktuell-19-04-2026-1800-e2793821-20.html
END:VEVENT
END:VCALENDAR
