BEGIN:VCALENDAR
VERSION:2.0
PRODID:hinto.net
X-PUBLISHED-TTL:P1W
BEGIN:VEVENT
UID:hinto.net-event_show-6873059
DTSTART:20260423T041300
SEQUENCE:0
CREATED:20260402T051157
LAST-MODIFIED:20260402T051157
TRANSP:OPAQUE
DTEND:20260423T041500
LOCATION:
SUMMARY:Tele Basel: Wetter
CLASS:PUBLIC
DESCRIPTION:
ORGANIZER:
DTSTAMP:20260423T202546
ATTACH:https://www.hinto.net/de/events/tele-basel-wetter-23-04-2026-0413-e2801463-20.html
END:VEVENT
END:VCALENDAR
