BEGIN:VCALENDAR
VERSION:2.0
PRODID:hinto.net
X-PUBLISHED-TTL:P1W
BEGIN:VEVENT
UID:hinto.net-event_show-6863464
DTSTART:20260419T201300
SEQUENCE:0
CREATED:20260329T154605
LAST-MODIFIED:20260329T154605
TRANSP:OPAQUE
DTEND:20260419T201500
LOCATION:
SUMMARY:Tele Basel: Wetter
CLASS:PUBLIC
DESCRIPTION:
ORGANIZER:
DTSTAMP:20260420T041629
ATTACH:https://www.hinto.net/de/events/tele-basel-wetter-19-04-2026-2013-e2794080-20.html
END:VEVENT
END:VCALENDAR
