BEGIN:VCALENDAR
VERSION:2.0
PRODID:hinto.net
X-PUBLISHED-TTL:P1W
BEGIN:VEVENT
UID:hinto.net-event_show-6860096
DTSTART:20260419T044500
SEQUENCE:0
CREATED:20260328T060259
LAST-MODIFIED:20260328T060259
TRANSP:OPAQUE
DTEND:20260419T050000
LOCATION:
SUMMARY:Tele Basel: Tatze, Pfote, Schnabel
CLASS:PUBLIC
DESCRIPTION:
ORGANIZER:
DTSTAMP:20260419T193401
ATTACH:https://www.hinto.net/de/events/tele-basel-tatze-pfote-schnabel-19-04-2026-0445-e2791275-20.html
END:VEVENT
END:VCALENDAR
