BEGIN:VCALENDAR
VERSION:2.0
PRODID:hinto.net
X-PUBLISHED-TTL:P1W
BEGIN:VEVENT
UID:hinto.net-event_show-6873048
DTSTART:20260423T020000
SEQUENCE:0
CREATED:20260402T051149
LAST-MODIFIED:20260402T051149
TRANSP:OPAQUE
DTEND:20260423T021300
LOCATION:
SUMMARY:Tele Basel: punkt6
CLASS:PUBLIC
DESCRIPTION:
ORGANIZER:
DTSTAMP:20260423T190309
ATTACH:https://www.hinto.net/de/events/tele-basel-punkt6-23-04-2026-0200-e2801452-20.html
END:VEVENT
END:VCALENDAR
