BEGIN:VCALENDAR
VERSION:2.0
PRODID:hinto.net
X-PUBLISHED-TTL:P1W
BEGIN:VEVENT
UID:hinto.net-event_show-6863436
DTSTART:20260419T130000
SEQUENCE:0
CREATED:20260329T154545
LAST-MODIFIED:20260329T154545
TRANSP:OPAQUE
DTEND:20260419T131300
LOCATION:
SUMMARY:Tele Basel: punkt6
CLASS:PUBLIC
DESCRIPTION:
ORGANIZER:
DTSTAMP:20260419T161417
ATTACH:https://www.hinto.net/de/events/tele-basel-punkt6-19-04-2026-1300-e2794052-20.html
END:VEVENT
END:VCALENDAR
