BEGIN:VCALENDAR
VERSION:2.0
PRODID:hinto.net
X-PUBLISHED-TTL:P1W
BEGIN:VEVENT
UID:hinto.net-event_show-6873056
DTSTART:20260423T033000
SEQUENCE:0
CREATED:20260402T051155
LAST-MODIFIED:20260402T051155
TRANSP:OPAQUE
DTEND:20260423T034500
LOCATION:
SUMMARY:Tele Basel: Geld & Co.
CLASS:PUBLIC
DESCRIPTION:
ORGANIZER:
DTSTAMP:20260423T162050
ATTACH:https://www.hinto.net/de/events/tele-basel-geld-co-23-04-2026-0330-e2801460-20.html
END:VEVENT
END:VCALENDAR
