BEGIN:VCALENDAR
VERSION:2.0
PRODID:hinto.net
X-PUBLISHED-TTL:P1W
BEGIN:VEVENT
UID:hinto.net-event_show-6863367
DTSTART:20260419T200000
SEQUENCE:0
CREATED:20260329T154257
LAST-MODIFIED:20260329T154257
TRANSP:OPAQUE
DTEND:20260419T202000
LOCATION:
SUMMARY:Tele Bärn: TeleBärn News
CLASS:PUBLIC
DESCRIPTION:
ORGANIZER:
DTSTAMP:20260420T065745
ATTACH:https://www.hinto.net/de/events/tele-baern-telebaern-news-19-04-2026-2000-e2793983-20.html
END:VEVENT
END:VCALENDAR
