BEGIN:VCALENDAR
VERSION:2.0
PRODID:hinto.net
X-PUBLISHED-TTL:P1W
BEGIN:VEVENT
UID:hinto.net-event_show-6863352
DTSTART:20260419T130000
SEQUENCE:0
CREATED:20260329T153933
LAST-MODIFIED:20260329T153933
TRANSP:OPAQUE
DTEND:20260419T131500
LOCATION:
SUMMARY:Tele Bärn: TeleBärn News
CLASS:PUBLIC
DESCRIPTION:
ORGANIZER:
DTSTAMP:20260420T034547
ATTACH:https://www.hinto.net/de/events/tele-baern-telebaern-news-19-04-2026-1300-e2793968-20.html
END:VEVENT
END:VCALENDAR
