BEGIN:VCALENDAR
VERSION:2.0
PRODID:hinto.net
X-PUBLISHED-TTL:P1W
BEGIN:VEVENT
UID:hinto.net-event_show-6872952
DTSTART:20260423T033000
SEQUENCE:0
CREATED:20260402T050912
LAST-MODIFIED:20260402T050912
TRANSP:OPAQUE
DTEND:20260423T035000
LOCATION:
SUMMARY:Tele Bärn: TalkTäglich
CLASS:PUBLIC
DESCRIPTION:
ORGANIZER:
DTSTAMP:20260423T202732
ATTACH:https://www.hinto.net/de/events/tele-baern-talktaeglich-23-04-2026-0330-e2801356-20.html
END:VEVENT
END:VCALENDAR
