BEGIN:VCALENDAR
VERSION:2.0
PRODID:hinto.net
X-PUBLISHED-TTL:P1W
BEGIN:VEVENT
UID:hinto.net-event_show-6925844
DTSTART:20260419T192000
SEQUENCE:0
CREATED:20260419T150755
LAST-MODIFIED:20260419T150755
TRANSP:OPAQUE
DTEND:20260419T195000
LOCATION:
SUMMARY:Tele 1: Sonntalk
CLASS:PUBLIC
DESCRIPTION:
ORGANIZER:
DTSTAMP:20260420T081937
ATTACH:https://www.hinto.net/de/events/tele-1-sonntalk-19-04-2026-1920-e2847784-20.html
END:VEVENT
END:VCALENDAR
