BEGIN:VCALENDAR
VERSION:2.0
PRODID:hinto.net
X-PUBLISHED-TTL:P1W
BEGIN:VEVENT
UID:hinto.net-event_show-6872710
DTSTART:20260423T030000
SEQUENCE:0
CREATED:20260402T050422
LAST-MODIFIED:20260402T050422
TRANSP:OPAQUE
DTEND:20260423T031500
LOCATION:
SUMMARY:Tele 1: Nachrichten
CLASS:PUBLIC
DESCRIPTION:
ORGANIZER:
DTSTAMP:20260423T191109
ATTACH:https://www.hinto.net/de/events/tele-1-nachrichten-23-04-2026-0300-e2801114-20.html
END:VEVENT
END:VCALENDAR
