BEGIN:VCALENDAR
VERSION:2.0
PRODID:hinto.net
X-PUBLISHED-TTL:P1W
BEGIN:VEVENT
UID:hinto.net-event_show-6872704
DTSTART:20260423T000000
SEQUENCE:0
CREATED:20260402T050418
LAST-MODIFIED:20260402T050418
TRANSP:OPAQUE
DTEND:20260423T001500
LOCATION:
SUMMARY:Tele 1: Nachrichten
CLASS:PUBLIC
DESCRIPTION:
ORGANIZER:
DTSTAMP:20260423T203007
ATTACH:https://www.hinto.net/de/events/tele-1-nachrichten-23-04-2026-0000-e2801108-20.html
END:VEVENT
END:VCALENDAR
