BEGIN:VCALENDAR
VERSION:2.0
PRODID:hinto.net
X-PUBLISHED-TTL:P1W
BEGIN:VEVENT
UID:hinto.net-event_show-6863162
DTSTART:20260420T000000
SEQUENCE:0
CREATED:20260419T135020
LAST-MODIFIED:20260419T135020
TRANSP:OPAQUE
DTEND:20260420T002000
LOCATION:
SUMMARY:Tele 1: Nachrichten
CLASS:PUBLIC
DESCRIPTION:
ORGANIZER:
DTSTAMP:20260421T092757
ATTACH:https://www.hinto.net/de/events/tele-1-nachrichten-20-04-2026-0000-e2793778-20.html
END:VEVENT
END:VCALENDAR
