BEGIN:VCALENDAR
VERSION:2.0
PRODID:hinto.net
X-PUBLISHED-TTL:P1W
BEGIN:VEVENT
UID:hinto.net-event_show-6872707
DTSTART:20260423T022500
SEQUENCE:0
CREATED:20260402T050420
LAST-MODIFIED:20260402T050420
TRANSP:OPAQUE
DTEND:20260423T025000
LOCATION:
SUMMARY:Tele 1: Kultur
CLASS:PUBLIC
DESCRIPTION:
ORGANIZER:
DTSTAMP:20260423T202729
ATTACH:https://www.hinto.net/de/events/tele-1-kultur-23-04-2026-0225-e2801111-20.html
END:VEVENT
END:VCALENDAR
