BEGIN:VCALENDAR
VERSION:2.0
PRODID:hinto.net
X-PUBLISHED-TTL:P1W
BEGIN:VEVENT
UID:hinto.net-event_show-6863724
DTSTART:20260419T123000
SEQUENCE:0
CREATED:20260329T155717
LAST-MODIFIED:20260329T155717
TRANSP:OPAQUE
DTEND:20260419T140000
LOCATION:
SUMMARY:SWR: Von ganzem Herzen
CLASS:PUBLIC
DESCRIPTION:
ORGANIZER:
DTSTAMP:20260419T190720
ATTACH:https://www.hinto.net/de/events/swr-von-ganzem-herzen-19-04-2026-1230-e2794340-20.html
END:VEVENT
END:VCALENDAR
