BEGIN:VCALENDAR
VERSION:2.0
PRODID:hinto.net
X-PUBLISHED-TTL:P1W
BEGIN:VEVENT
UID:hinto.net-event_show-6886523
DTSTART:20260426T184500
SEQUENCE:0
CREATED:20260405T231957
LAST-MODIFIED:20260405T231957
TRANSP:OPAQUE
DTEND:20260426T191500
LOCATION:
SUMMARY:SWR: Treffpunkt
CLASS:PUBLIC
DESCRIPTION:
ORGANIZER:
DTSTAMP:20260419T144519
ATTACH:https://www.hinto.net/de/events/swr-treffpunkt-26-04-2026-1845-e2813058-20.html
END:VEVENT
END:VCALENDAR
