BEGIN:VCALENDAR
VERSION:2.0
PRODID:hinto.net
X-PUBLISHED-TTL:P1W
BEGIN:VEVENT
UID:hinto.net-event_show-6922493
DTSTART:20260419T152500
SEQUENCE:0
CREATED:20260418T114359
LAST-MODIFIED:20260418T114359
TRANSP:OPAQUE
DTEND:20260419T153500
LOCATION:
SUMMARY:Super RTL: Lana Longbeard
CLASS:PUBLIC
DESCRIPTION:
ORGANIZER:
DTSTAMP:20260420T091858
ATTACH:https://www.hinto.net/de/events/super-rtl-lana-longbeard-19-04-2026-1525-e2845020-20.html
END:VEVENT
END:VCALENDAR
