BEGIN:VCALENDAR
VERSION:2.0
PRODID:hinto.net
X-PUBLISHED-TTL:P1W
BEGIN:VEVENT
UID:hinto.net-event_show-6863663
DTSTART:20260419T150000
SEQUENCE:0
CREATED:20260329T155527
LAST-MODIFIED:20260329T155527
TRANSP:OPAQUE
DTEND:20260419T152000
LOCATION:
SUMMARY:Super RTL: Lana Longbeard
CLASS:PUBLIC
DESCRIPTION:
ORGANIZER:
DTSTAMP:20260419T214626
ATTACH:https://www.hinto.net/de/events/super-rtl-lana-longbeard-19-04-2026-1500-e2794279-20.html
END:VEVENT
END:VCALENDAR
