BEGIN:VCALENDAR
VERSION:2.0
PRODID:hinto.net
X-PUBLISHED-TTL:P1W
BEGIN:VEVENT
UID:hinto.net-event_show-6860327
DTSTART:20260418T222500
SEQUENCE:0
CREATED:20260328T060801
LAST-MODIFIED:20260328T060801
TRANSP:OPAQUE
DTEND:20260419T003500
LOCATION:
SUMMARY:Super RTL: Fighting with My Family
CLASS:PUBLIC
DESCRIPTION:
ORGANIZER:
DTSTAMP:20260420T082838
ATTACH:https://www.hinto.net/de/events/super-rtl-fighting-with-my-family-18-04-2026-2225-e2791506-20.html
END:VEVENT
END:VCALENDAR
