BEGIN:VCALENDAR
VERSION:2.0
PRODID:hinto.net
X-PUBLISHED-TTL:P1W
BEGIN:VEVENT
UID:hinto.net-event_show-6863655
DTSTART:20260419T122500
SEQUENCE:0
CREATED:20260329T155331
LAST-MODIFIED:20260329T155331
TRANSP:OPAQUE
DTEND:20260419T124500
LOCATION:
SUMMARY:Super RTL: ALVINNN!!! und die Chipmunks
CLASS:PUBLIC
DESCRIPTION:
ORGANIZER:
DTSTAMP:20260420T025713
ATTACH:https://www.hinto.net/de/events/super-rtl-alvinnn!!!-und-die-chipmunks-19-04-2026-1225-e2794271-20.html
END:VEVENT
END:VCALENDAR
