BEGIN:VCALENDAR
VERSION:2.0
PRODID:hinto.net
X-PUBLISHED-TTL:P1W
BEGIN:VEVENT
UID:hinto.net-event_show-6863654
DTSTART:20260419T121500
SEQUENCE:0
CREATED:20260329T155330
LAST-MODIFIED:20260329T155330
TRANSP:OPAQUE
DTEND:20260419T122500
LOCATION:
SUMMARY:Super RTL: ALVINNN!!! und die Chipmunks
CLASS:PUBLIC
DESCRIPTION:
ORGANIZER:
DTSTAMP:20260420T065636
ATTACH:https://www.hinto.net/de/events/super-rtl-alvinnn!!!-und-die-chipmunks-19-04-2026-1215-e2794270-20.html
END:VEVENT
END:VCALENDAR
