BEGIN:VCALENDAR
VERSION:2.0
PRODID:hinto.net
X-PUBLISHED-TTL:P1W
BEGIN:VEVENT
UID:hinto.net-event_show-6910397
DTSTART:20260417T002000
SEQUENCE:0
CREATED:20260414T155424
LAST-MODIFIED:20260414T155424
TRANSP:OPAQUE
DTEND:20260417T004000
LOCATION:
SUMMARY:SRF zwei: Tagesschau vor 20 Jahren
CLASS:PUBLIC
DESCRIPTION:
ORGANIZER:
DTSTAMP:20260419T210208
ATTACH:https://www.hinto.net/de/events/srf-zwei-tagesschau-vor-20-jahren-17-04-2026-0020-e2834531-20.html
END:VEVENT
END:VCALENDAR
