BEGIN:VCALENDAR
VERSION:2.0
PRODID:hinto.net
X-PUBLISHED-TTL:P1W
BEGIN:VEVENT
UID:hinto.net-event_show-6862554
DTSTART:20260420T001500
SEQUENCE:0
CREATED:20260418T064530
LAST-MODIFIED:20260418T064530
TRANSP:OPAQUE
DTEND:20260420T011000
LOCATION:
SUMMARY:SRF zwei: Sportpanorama
CLASS:PUBLIC
DESCRIPTION:
ORGANIZER:
DTSTAMP:20260421T040609
ATTACH:https://www.hinto.net/de/events/srf-zwei-sportpanorama-20-04-2026-0015-e2793170-20.html
END:VEVENT
END:VCALENDAR
