BEGIN:VCALENDAR
VERSION:2.0
PRODID:hinto.net
X-PUBLISHED-TTL:P1W
BEGIN:VEVENT
UID:hinto.net-event_show-6871990
DTSTART:20260423T021000
SEQUENCE:0
CREATED:20260402T042150
LAST-MODIFIED:20260402T042150
TRANSP:OPAQUE
DTEND:20260423T033500
LOCATION:
SUMMARY:SRF zwei: Hell
CLASS:PUBLIC
DESCRIPTION:
ORGANIZER:
DTSTAMP:20260423T185604
ATTACH:https://www.hinto.net/de/events/srf-zwei-hell-23-04-2026-0210-e2800394-20.html
END:VEVENT
END:VCALENDAR
