BEGIN:VCALENDAR
VERSION:2.0
PRODID:hinto.net
X-PUBLISHED-TTL:P1W
BEGIN:VEVENT
UID:hinto.net-event_show-6872065
DTSTART:20260422T235500
SEQUENCE:0
CREATED:20260402T042741
LAST-MODIFIED:20260402T042741
TRANSP:OPAQUE
DTEND:20260423T000000
LOCATION:
SUMMARY:SRF info: SRF Börse
CLASS:PUBLIC
DESCRIPTION:
ORGANIZER:
DTSTAMP:20260423T214731
ATTACH:https://www.hinto.net/de/events/srf-info-srf-boerse-22-04-2026-2355-e2800469-20.html
END:VEVENT
END:VCALENDAR
