BEGIN:VCALENDAR
VERSION:2.0
PRODID:hinto.net
X-PUBLISHED-TTL:P1W
BEGIN:VEVENT
UID:hinto.net-event_show-6872090
DTSTART:20260423T042000
SEQUENCE:0
CREATED:20260402T042816
LAST-MODIFIED:20260402T042816
TRANSP:OPAQUE
DTEND:20260423T042500
LOCATION:
SUMMARY:SRF info: Sportflash
CLASS:PUBLIC
DESCRIPTION:
ORGANIZER:
DTSTAMP:20260423T202134
ATTACH:https://www.hinto.net/de/events/srf-info-sportflash-23-04-2026-0420-e2800494-20.html
END:VEVENT
END:VCALENDAR
