BEGIN:VCALENDAR
VERSION:2.0
PRODID:hinto.net
X-PUBLISHED-TTL:P1W
BEGIN:VEVENT
UID:hinto.net-event_show-6913297
DTSTART:20260419T130500
SEQUENCE:0
CREATED:20260415T193150
LAST-MODIFIED:20260415T193150
TRANSP:OPAQUE
DTEND:20260419T134000
LOCATION:
SUMMARY:SRF info: Puls
CLASS:PUBLIC
DESCRIPTION:
ORGANIZER:
DTSTAMP:20260419T173613
ATTACH:https://www.hinto.net/de/events/srf-info-puls-19-04-2026-1305-e2836955-20.html
END:VEVENT
END:VCALENDAR
