BEGIN:VCALENDAR
VERSION:2.0
PRODID:hinto.net
X-PUBLISHED-TTL:P1W
BEGIN:VEVENT
UID:hinto.net-event_show-6872081
DTSTART:20260423T025500
SEQUENCE:0
CREATED:20260402T042755
LAST-MODIFIED:20260402T042755
TRANSP:OPAQUE
DTEND:20260423T030000
LOCATION:
SUMMARY:SRF info: Meteo
CLASS:PUBLIC
DESCRIPTION:
ORGANIZER:
DTSTAMP:20260423T185932
ATTACH:https://www.hinto.net/de/events/srf-info-meteo-23-04-2026-0255-e2800485-20.html
END:VEVENT
END:VCALENDAR
