BEGIN:VCALENDAR
VERSION:2.0
PRODID:hinto.net
X-PUBLISHED-TTL:P1W
BEGIN:VEVENT
UID:hinto.net-event_show-6872077
DTSTART:20260423T021500
SEQUENCE:0
CREATED:20260402T042752
LAST-MODIFIED:20260402T042752
TRANSP:OPAQUE
DTEND:20260423T022000
LOCATION:
SUMMARY:SRF info: Meteo
CLASS:PUBLIC
DESCRIPTION:
ORGANIZER:
DTSTAMP:20260423T173715
ATTACH:https://www.hinto.net/de/events/srf-info-meteo-23-04-2026-0215-e2800481-20.html
END:VEVENT
END:VCALENDAR
