BEGIN:VCALENDAR
VERSION:2.0
PRODID:hinto.net
X-PUBLISHED-TTL:P1W
BEGIN:VEVENT
UID:hinto.net-event_show-6862602
DTSTART:20260420T012500
SEQUENCE:0
CREATED:20260329T145700
LAST-MODIFIED:20260329T145700
TRANSP:OPAQUE
DTEND:20260420T013000
LOCATION:
SUMMARY:SRF info: Meteo
CLASS:PUBLIC
DESCRIPTION:
ORGANIZER:
DTSTAMP:20260420T084514
ATTACH:https://www.hinto.net/de/events/srf-info-meteo-20-04-2026-0125-e2793218-20.html
END:VEVENT
END:VCALENDAR
