BEGIN:VCALENDAR
VERSION:2.0
PRODID:hinto.net
X-PUBLISHED-TTL:P1W
BEGIN:VEVENT
UID:hinto.net-event_show-6913298
DTSTART:20260419T134000
SEQUENCE:0
CREATED:20260415T193151
LAST-MODIFIED:20260415T193151
TRANSP:OPAQUE
DTEND:20260419T141500
LOCATION:
SUMMARY:SRF info: Kassensturz
CLASS:PUBLIC
DESCRIPTION:
ORGANIZER:
DTSTAMP:20260419T174050
ATTACH:https://www.hinto.net/de/events/srf-info-kassensturz-19-04-2026-1340-e2836956-20.html
END:VEVENT
END:VCALENDAR
