BEGIN:VCALENDAR
VERSION:2.0
PRODID:hinto.net
X-PUBLISHED-TTL:P1W
BEGIN:VEVENT
UID:hinto.net-event_show-6900982
DTSTART:20260411T055500
SEQUENCE:0
CREATED:20260411T054531
LAST-MODIFIED:20260411T054531
TRANSP:OPAQUE
DTEND:20260411T063500
LOCATION:
SUMMARY:SRF 1: Shaolin Challenge
CLASS:PUBLIC
DESCRIPTION:
ORGANIZER:
DTSTAMP:20260422T081249
ATTACH:https://www.hinto.net/de/events/srf-1-shaolin-challenge-11-04-2026-0555-e2826380-20.html
END:VEVENT
END:VCALENDAR
