BEGIN:VCALENDAR
VERSION:2.0
PRODID:hinto.net
X-PUBLISHED-TTL:P1W
BEGIN:VEVENT
UID:hinto.net-event_show-6884513
DTSTART:20260614T170000
SEQUENCE:0
CREATED:20260404T234123
LAST-MODIFIED:20260404T234123
TRANSP:OPAQUE

LOCATION:Tonhalle
SUMMARY:Schubertiade
CLASS:PUBLIC
DESCRIPTION:
ORGANIZER:
DTSTAMP:20260420T035625
ATTACH:https://www.hinto.net/de/events/schubertiade-14-06-2026-1700-tonhalle-st-gallen-e2811274-20.html
END:VEVENT
END:VCALENDAR
