BEGIN:VCALENDAR
VERSION:2.0
PRODID:hinto.net
X-PUBLISHED-TTL:P1W
BEGIN:VEVENT
UID:hinto.net-event_show-6899041
DTSTART:20260423T002500
SEQUENCE:0
CREATED:20260411T043326
LAST-MODIFIED:20260411T043326
TRANSP:OPAQUE
DTEND:20260423T004000
LOCATION:
SUMMARY:RTS 2: HC Davos - Fribourg-Gottéron
CLASS:PUBLIC
DESCRIPTION:
ORGANIZER:
DTSTAMP:20260423T162053
ATTACH:https://www.hinto.net/de/events/rts-2-hc-davos-fribourg-gotteron-23-04-2026-0025-e2824439-20.html
END:VEVENT
END:VCALENDAR
