BEGIN:VCALENDAR
VERSION:2.0
PRODID:hinto.net
X-PUBLISHED-TTL:P1W
BEGIN:VEVENT
UID:hinto.net-event_show-6919438
DTSTART:20260419T200200
SEQUENCE:0
CREATED:20260417T042423
LAST-MODIFIED:20260417T042423
TRANSP:OPAQUE
DTEND:20260419T202231
LOCATION:
SUMMARY:RTS 2: Modern Family
CLASS:PUBLIC
DESCRIPTION:
ORGANIZER:
DTSTAMP:20260420T092529
ATTACH:https://www.hinto.net/de/events/rts-2-modern-family-19-04-2026-2002-e2842395-20.html
END:VEVENT
END:VCALENDAR
