BEGIN:VCALENDAR
VERSION:2.0
PRODID:hinto.net
X-PUBLISHED-TTL:P1W
BEGIN:VEVENT
UID:hinto.net-event_show-6919441
DTSTART:20260420T011000
SEQUENCE:0
CREATED:20260417T042427
LAST-MODIFIED:20260417T042427
TRANSP:OPAQUE
DTEND:20260420T013544
LOCATION:
SUMMARY:RTS 2: Geopolitis
CLASS:PUBLIC
DESCRIPTION:
ORGANIZER:
DTSTAMP:20260421T065319
ATTACH:https://www.hinto.net/de/events/rts-2-geopolitis-20-04-2026-0110-e2842398-20.html
END:VEVENT
END:VCALENDAR
